Package: systemPipeShiny Version: 1.19.1 Command: rm -rf systemPipeShiny.buildbin-libdir && mkdir systemPipeShiny.buildbin-libdir && /Users/biocbuild/BBS/utils/build-universal.sh systemPipeShiny_1.19.1.tar.gz /Library/Frameworks/R.framework/Resources/bin/R systemPipeShiny.buildbin-libdir StartedAt: 2025-10-25 02:07:58 -0400 (Sat, 25 Oct 2025) EndedAt: 2025-10-25 02:08:24 -0400 (Sat, 25 Oct 2025) EllapsedTime: 25.6 seconds RetCode: 0 Status: OK PackageFile: systemPipeShiny_1.19.1.tgz PackageFileSize: 3.58 MiB