Package: systemPipeR Version: 2.15.2 Command: /home/biocbuild/bbs-3.22-bioc/R/bin/R CMD INSTALL systemPipeR StartedAt: 2025-10-24 16:02:20 -0400 (Fri, 24 Oct 2025) EndedAt: 2025-10-24 16:03:05 -0400 (Fri, 24 Oct 2025) EllapsedTime: 45.0 seconds RetCode: 0 Status: OK