Package: systemPipeR Version: 2.15.2 Command: /Library/Frameworks/R.framework/Resources/bin/R CMD INSTALL systemPipeR StartedAt: 2025-10-24 15:50:18 -0400 (Fri, 24 Oct 2025) EndedAt: 2025-10-24 15:51:21 -0400 (Fri, 24 Oct 2025) EllapsedTime: 63.5 seconds RetCode: 0 Status: OK