Package: systemPipeR Version: 2.15.2 Command: /Library/Frameworks/R.framework/Resources/bin/R CMD build --keep-empty-dirs --no-resave-data systemPipeR StartedAt: 2025-10-24 19:01:37 -0400 (Fri, 24 Oct 2025) EndedAt: 2025-10-24 19:03:26 -0400 (Fri, 24 Oct 2025) EllapsedTime: 109.8 seconds RetCode: 0 Status: OK PackageFile: systemPipeR_2.15.2.tar.gz PackageFileSize: 6.497 MiB