Package: syntenet Version: 1.11.2 Command: /Library/Frameworks/R.framework/Resources/bin/R CMD INSTALL syntenet StartedAt: 2025-10-24 15:25:43 -0400 (Fri, 24 Oct 2025) EndedAt: 2025-10-24 15:26:35 -0400 (Fri, 24 Oct 2025) EllapsedTime: 51.7 seconds RetCode: 0 Status: OK