Package: syntenet Version: 1.11.2 Command: rm -rf syntenet.buildbin-libdir && mkdir syntenet.buildbin-libdir && /Users/biocbuild/BBS/utils/build-universal.sh syntenet_1.11.2.tar.gz /Library/Frameworks/R.framework/Resources/bin/R syntenet.buildbin-libdir StartedAt: 2025-10-24 23:22:08 -0400 (Fri, 24 Oct 2025) EndedAt: 2025-10-24 23:22:22 -0400 (Fri, 24 Oct 2025) EllapsedTime: 13.5 seconds RetCode: 0 Status: OK PackageFile: syntenet_1.11.2.tgz PackageFileSize: 3.414 MiB