Package: synlet Version: 2.9.0 Command: /home/biocbuild/bbs-3.22-bioc/R/bin/R CMD INSTALL synlet StartedAt: 2025-10-24 15:20:36 -0400 (Fri, 24 Oct 2025) EndedAt: 2025-10-24 15:20:53 -0400 (Fri, 24 Oct 2025) EllapsedTime: 17.1 seconds RetCode: 0 Status: OK