Package: synlet Version: 2.9.0 Command: /home/biocbuild/bbs-3.22-bioc/R/bin/R CMD build --keep-empty-dirs --no-resave-data --md5 synlet StartedAt: 2025-10-24 20:34:20 -0400 (Fri, 24 Oct 2025) EndedAt: 2025-10-24 20:34:48 -0400 (Fri, 24 Oct 2025) EllapsedTime: 28.0 seconds RetCode: 0 Status: OK PackageFile: synlet_2.9.0.tar.gz PackageFileSize: 1.469 MiB