Package: synlet Version: 2.10.0 Command: /Library/Frameworks/R.framework/Resources/bin/R CMD INSTALL synlet StartedAt: 2025-11-03 15:16:48 -0500 (Mon, 03 Nov 2025) EndedAt: 2025-11-03 15:17:28 -0500 (Mon, 03 Nov 2025) EllapsedTime: 40.5 seconds RetCode: 0 Status: OK