Package: synlet Version: 2.10.0 Command: /Library/Frameworks/R.framework/Resources/bin/R CMD build --keep-empty-dirs --no-resave-data synlet StartedAt: 2025-11-03 19:02:22 -0500 (Mon, 03 Nov 2025) EndedAt: 2025-11-03 19:02:55 -0500 (Mon, 03 Nov 2025) EllapsedTime: 33.2 seconds RetCode: 0 Status: OK PackageFile: synlet_2.10.0.tar.gz PackageFileSize: 1.408 MiB