Package: synlet Version: 2.10.0 Command: rm -rf synlet.buildbin-libdir && mkdir synlet.buildbin-libdir && /Users/biocbuild/BBS/utils/build-universal.sh synlet_2.10.0.tar.gz /Library/Frameworks/R.framework/Resources/bin/R synlet.buildbin-libdir StartedAt: 2025-11-04 02:07:52 -0500 (Tue, 04 Nov 2025) EndedAt: 2025-11-04 02:08:02 -0500 (Tue, 04 Nov 2025) EllapsedTime: 10.4 seconds RetCode: 0 Status: OK PackageFile: synlet_2.10.0.tgz PackageFileSize: 1.458 MiB