Package: synlet Version: 2.9.0 Command: /Library/Frameworks/R.framework/Resources/bin/R CMD INSTALL synlet StartedAt: 2025-10-27 15:05:29 -0400 (Mon, 27 Oct 2025) EndedAt: 2025-10-27 15:05:31 -0400 (Mon, 27 Oct 2025) EllapsedTime: 2.1 seconds RetCode: 0 Status: OK