Package: synergyfinder Version: 3.18.0 Command: /home/biocbuild/bbs-3.22-bioc/R/bin/R CMD INSTALL synergyfinder StartedAt: 2025-11-17 17:07:21 -0500 (Mon, 17 Nov 2025) EndedAt: 2025-11-17 17:07:29 -0500 (Mon, 17 Nov 2025) EllapsedTime: 7.4 seconds RetCode: 0 Status: OK