Package: switchde Version: 1.36.0 Command: /Library/Frameworks/R.framework/Resources/bin/R CMD INSTALL switchde StartedAt: 2025-11-10 15:18:04 -0500 (Mon, 10 Nov 2025) EndedAt: 2025-11-10 15:18:15 -0500 (Mon, 10 Nov 2025) EllapsedTime: 10.4 seconds RetCode: 0 Status: OK