Package: switchde Version: 1.36.0 Command: /Library/Frameworks/R.framework/Resources/bin/R CMD build --keep-empty-dirs --no-resave-data switchde StartedAt: 2025-11-10 17:57:06 -0500 (Mon, 10 Nov 2025) EndedAt: 2025-11-10 17:57:24 -0500 (Mon, 10 Nov 2025) EllapsedTime: 17.2 seconds RetCode: 0 Status: OK PackageFile: switchde_1.36.0.tar.gz PackageFileSize: 1.032 MiB