Package: switchBox Version: 1.45.0 Command: /home/biocbuild/R/R/bin/R CMD INSTALL switchBox StartedAt: 2025-10-23 20:18:57 -0000 (Thu, 23 Oct 2025) EndedAt: 2025-10-23 20:19:21 -0000 (Thu, 23 Oct 2025) EllapsedTime: 24.1 seconds RetCode: 0 Status: OK