Package: switchBox Version: 1.45.0 Command: /home/biocbuild/bbs-3.22-bioc/R/bin/R CMD build --keep-empty-dirs --no-resave-data --md5 switchBox StartedAt: 2025-10-24 20:33:34 -0400 (Fri, 24 Oct 2025) EndedAt: 2025-10-24 20:33:44 -0400 (Fri, 24 Oct 2025) EllapsedTime: 10.0 seconds RetCode: 0 Status: OK PackageFile: switchBox_1.45.0.tar.gz PackageFileSize: 473.8 KiB