Package: switchBox Version: 1.45.0 Command: /Library/Frameworks/R.framework/Resources/bin/R CMD build --keep-empty-dirs --no-resave-data switchBox StartedAt: 2025-10-27 17:55:03 -0400 (Mon, 27 Oct 2025) EndedAt: 2025-10-27 17:55:09 -0400 (Mon, 27 Oct 2025) EllapsedTime: 6.1 seconds RetCode: 0 Status: OK PackageFile: switchBox_1.45.0.tar.gz PackageFileSize: 471.1 KiB