Package: switchBox Version: 1.45.0 Command: rm -rf switchBox.buildbin-libdir && mkdir switchBox.buildbin-libdir && /Users/biocbuild/BBS/utils/build-universal.sh switchBox_1.45.0.tar.gz /Library/Frameworks/R.framework/Resources/bin/R switchBox.buildbin-libdir StartedAt: 2025-10-26 22:49:52 -0400 (Sun, 26 Oct 2025) EndedAt: 2025-10-26 22:49:55 -0400 (Sun, 26 Oct 2025) EllapsedTime: 3.0 seconds RetCode: 0 Status: OK PackageFile: switchBox_1.45.0.tgz PackageFileSize: 643.7 KiB