Package: swfdr Version: 1.36.0 Command: /home/biocbuild/R/R/bin/R CMD INSTALL swfdr StartedAt: 2025-11-13 21:05:21 -0000 (Thu, 13 Nov 2025) EndedAt: 2025-11-13 21:06:02 -0000 (Thu, 13 Nov 2025) EllapsedTime: 40.7 seconds RetCode: 0 Status: OK