Package: swfdr Version: 1.36.0 Command: /home/biocbuild/bbs-3.22-bioc/R/bin/R CMD INSTALL swfdr StartedAt: 2025-11-16 15:04:59 -0500 (Sun, 16 Nov 2025) EndedAt: 2025-11-16 15:05:23 -0500 (Sun, 16 Nov 2025) EllapsedTime: 24.4 seconds RetCode: 0 Status: OK