Package: swfdr Version: 1.36.0 Command: /Library/Frameworks/R.framework/Resources/bin/R CMD build --keep-empty-dirs --no-resave-data swfdr StartedAt: 2025-11-03 19:02:02 -0500 (Mon, 03 Nov 2025) EndedAt: 2025-11-03 19:03:06 -0500 (Mon, 03 Nov 2025) EllapsedTime: 64.0 seconds RetCode: 0 Status: OK PackageFile: swfdr_1.36.0.tar.gz PackageFileSize: 1.203 MiB