Package: swfdr Version: 1.36.0 Command: /Library/Frameworks/R.framework/Resources/bin/R CMD build --keep-empty-dirs --no-resave-data swfdr StartedAt: 2025-11-10 17:56:52 -0500 (Mon, 10 Nov 2025) EndedAt: 2025-11-10 17:57:12 -0500 (Mon, 10 Nov 2025) EllapsedTime: 19.2 seconds RetCode: 1 Status: ERROR PackageFile: None PackageFileSize: NA