Package: swfdr Version: 1.36.0 Maintainer: Simina M. Boca , Jeffrey T. Leek MaintainerEmail: jtleek at gmail.com git_url: https://git.bioconductor.org/packages/swfdr git_branch: RELEASE_3_22 git_last_commit: f1e5cfe git_last_commit_date: 2025-10-29 10:36:56 -0500 (Wed, 29 Oct 2025)