Package: svaNUMT Version: 1.15.1 Command: /home/biocbuild/bbs-3.22-bioc/R/bin/R CMD INSTALL svaNUMT StartedAt: 2025-10-24 16:02:12 -0400 (Fri, 24 Oct 2025) EndedAt: 2025-10-24 16:02:51 -0400 (Fri, 24 Oct 2025) EllapsedTime: 39.0 seconds RetCode: 0 Status: OK