Package: svaNUMT Version: 1.15.1 Command: /home/biocbuild/bbs-3.22-bioc/R/bin/R CMD build --keep-empty-dirs --no-resave-data --md5 svaNUMT StartedAt: 2025-10-24 20:32:42 -0400 (Fri, 24 Oct 2025) EndedAt: 2025-10-24 20:33:52 -0400 (Fri, 24 Oct 2025) EllapsedTime: 69.0 seconds RetCode: 0 Status: OK PackageFile: svaNUMT_1.15.1.tar.gz PackageFileSize: 815.1 KiB