Package: survcomp Version: 1.60.0 Command: /Library/Frameworks/R.framework/Resources/bin/R CMD INSTALL survcomp StartedAt: 2025-10-30 15:04:47 -0400 (Thu, 30 Oct 2025) EndedAt: 2025-10-30 15:04:51 -0400 (Thu, 30 Oct 2025) EllapsedTime: 3.9 seconds RetCode: 0 Status: OK