Package: survcomp Version: 1.60.0 Command: /Library/Frameworks/R.framework/Resources/bin/R CMD build --keep-empty-dirs --no-resave-data survcomp StartedAt: 2025-10-30 17:55:31 -0400 (Thu, 30 Oct 2025) EndedAt: 2025-10-30 17:55:40 -0400 (Thu, 30 Oct 2025) EllapsedTime: 9.1 seconds RetCode: 0 Status: OK PackageFile: survcomp_1.60.0.tar.gz PackageFileSize: 638.1 KiB