Package: survcomp Version: 1.60.0 Command: rm -rf survcomp.buildbin-libdir && mkdir survcomp.buildbin-libdir && /Users/biocbuild/BBS/utils/build-universal.sh survcomp_1.60.0.tar.gz /Library/Frameworks/R.framework/Resources/bin/R survcomp.buildbin-libdir StartedAt: 2025-10-30 23:19:32 -0400 (Thu, 30 Oct 2025) EndedAt: 2025-10-30 23:19:37 -0400 (Thu, 30 Oct 2025) EllapsedTime: 5.1 seconds RetCode: 0 Status: OK PackageFile: survcomp_1.60.0.tgz PackageFileSize: 832.9 KiB