Package: survClust Version: 1.3.0 Command: /home/biocbuild/bbs-3.22-bioc/R/bin/R CMD build --keep-empty-dirs --no-resave-data --md5 survClust StartedAt: 2025-10-24 20:32:23 -0400 (Fri, 24 Oct 2025) EndedAt: 2025-10-24 20:34:20 -0400 (Fri, 24 Oct 2025) EllapsedTime: 116.1 seconds RetCode: 0 Status: OK PackageFile: survClust_1.3.0.tar.gz PackageFileSize: 817.8 KiB