Package: subSeq Version: 1.40.0 Command: /Library/Frameworks/R.framework/Resources/bin/R CMD INSTALL subSeq StartedAt: 2025-10-31 15:24:20 -0400 (Fri, 31 Oct 2025) EndedAt: 2025-10-31 15:24:35 -0400 (Fri, 31 Oct 2025) EllapsedTime: 15.2 seconds RetCode: 0 Status: OK