Package: subSeq Version: 1.39.0 Command: /Library/Frameworks/R.framework/Resources/bin/R CMD INSTALL subSeq StartedAt: 2025-10-24 15:10:19 -0400 (Fri, 24 Oct 2025) EndedAt: 2025-10-24 15:10:22 -0400 (Fri, 24 Oct 2025) EllapsedTime: 2.7 seconds RetCode: 0 Status: OK