Package: subSeq Version: 1.40.0 Maintainer: Andrew J. Bass , John D. Storey MaintainerEmail: jstorey at princeton.edu git_url: https://git.bioconductor.org/packages/subSeq git_branch: RELEASE_3_22 git_last_commit: 47bc0af git_last_commit_date: 2025-10-29 10:28:35 -0400 (Wed, 29 Oct 2025)