Package: structToolbox Version: 1.21.0 Command: /home/biocbuild/bbs-3.22-bioc/R/bin/R CMD INSTALL structToolbox StartedAt: 2025-10-28 15:31:28 -0400 (Tue, 28 Oct 2025) EndedAt: 2025-10-28 15:32:04 -0400 (Tue, 28 Oct 2025) EllapsedTime: 36.0 seconds RetCode: 0 Status: OK