Package: structToolbox Version: 1.21.0 Command: /Library/Frameworks/R.framework/Resources/bin/R CMD build --keep-empty-dirs --no-resave-data structToolbox StartedAt: 2025-10-27 18:53:03 -0400 (Mon, 27 Oct 2025) EndedAt: 2025-10-27 19:05:21 -0400 (Mon, 27 Oct 2025) EllapsedTime: 737.1 seconds RetCode: 0 Status: OK PackageFile: structToolbox_1.21.0.tar.gz PackageFileSize: 4.933 MiB