Package: structToolbox Version: 1.21.0 Command: /Library/Frameworks/R.framework/Resources/bin/R CMD INSTALL structToolbox StartedAt: 2025-10-26 15:17:22 -0400 (Sun, 26 Oct 2025) EndedAt: 2025-10-26 15:17:36 -0400 (Sun, 26 Oct 2025) EllapsedTime: 14.1 seconds RetCode: 0 Status: OK