Package: struct Version: 1.21.1 Command: /home/biocbuild/R/R/bin/R CMD INSTALL struct StartedAt: 2025-10-23 20:53:48 -0000 (Thu, 23 Oct 2025) EndedAt: 2025-10-23 20:54:21 -0000 (Thu, 23 Oct 2025) EllapsedTime: 32.8 seconds RetCode: 0 Status: OK