Package: struct Version: 1.21.1 Command: /home/biocbuild/R/R/bin/R CMD build --keep-empty-dirs --no-resave-data struct StartedAt: 2025-10-21 03:33:37 -0000 (Tue, 21 Oct 2025) EndedAt: 2025-10-21 03:34:29 -0000 (Tue, 21 Oct 2025) EllapsedTime: 52.0 seconds RetCode: 0 Status: OK PackageFile: struct_1.21.1.tar.gz PackageFileSize: 635.1 KiB