Package: struct Version: 1.21.1 Command: /home/biocbuild/bbs-3.22-bioc/R/bin/R CMD check --install=check:struct.install-out.txt --library=/home/biocbuild/bbs-3.22-bioc/R/site-library --timings struct_1.21.1.tar.gz StartedAt: 2025-10-25 04:42:28 -0400 (Sat, 25 Oct 2025) EndedAt: 2025-10-25 04:47:17 -0400 (Sat, 25 Oct 2025) EllapsedTime: 288.2 seconds RetCode: 1 Status: ERROR CheckDir: struct.Rcheck Warnings: NA