Package: struct Version: 1.21.1 Command: /Library/Frameworks/R.framework/Resources/bin/R CMD INSTALL struct StartedAt: 2025-10-24 15:38:10 -0400 (Fri, 24 Oct 2025) EndedAt: 2025-10-24 15:38:45 -0400 (Fri, 24 Oct 2025) EllapsedTime: 35.3 seconds RetCode: 0 Status: OK