Package: struct Version: 1.21.1 Command: /Library/Frameworks/R.framework/Resources/bin/R CMD build --keep-empty-dirs --no-resave-data struct StartedAt: 2025-10-24 18:59:17 -0400 (Fri, 24 Oct 2025) EndedAt: 2025-10-24 19:00:04 -0400 (Fri, 24 Oct 2025) EllapsedTime: 46.7 seconds RetCode: 0 Status: OK PackageFile: struct_1.21.1.tar.gz PackageFileSize: 604.4 KiB