Package: struct Version: 1.21.1 Command: /Library/Frameworks/R.framework/Resources/bin/R CMD INSTALL struct StartedAt: 2025-10-24 15:20:29 -0400 (Fri, 24 Oct 2025) EndedAt: 2025-10-24 15:20:40 -0400 (Fri, 24 Oct 2025) EllapsedTime: 10.4 seconds RetCode: 0 Status: OK