Package: struct Version: 1.21.1 Command: /Library/Frameworks/R.framework/Resources/bin/R CMD build --keep-empty-dirs --no-resave-data struct StartedAt: 2025-10-24 17:54:37 -0400 (Fri, 24 Oct 2025) EndedAt: 2025-10-24 17:54:55 -0400 (Fri, 24 Oct 2025) EllapsedTime: 17.2 seconds RetCode: 0 Status: OK PackageFile: struct_1.21.1.tar.gz PackageFileSize: 604.4 KiB