Package: strandCheckR Version: 1.27.2 Command: /home/biocbuild/bbs-3.22-bioc/R/bin/R CMD build --keep-empty-dirs --no-resave-data --md5 strandCheckR StartedAt: 2025-10-27 20:23:00 -0400 (Mon, 27 Oct 2025) EndedAt: 2025-10-27 20:24:04 -0400 (Mon, 27 Oct 2025) EllapsedTime: 64.0 seconds RetCode: 0 Status: OK PackageFile: strandCheckR_1.27.2.tar.gz PackageFileSize: 1.225 MiB