Package: strandCheckR Version: 1.27.2 Command: /Library/Frameworks/R.framework/Resources/bin/R CMD INSTALL strandCheckR StartedAt: 2025-10-26 15:28:44 -0400 (Sun, 26 Oct 2025) EndedAt: 2025-10-26 15:29:00 -0400 (Sun, 26 Oct 2025) EllapsedTime: 15.7 seconds RetCode: 0 Status: OK