Package: strandCheckR Version: 1.27.2 Command: /Library/Frameworks/R.framework/Resources/bin/R CMD build --keep-empty-dirs --no-resave-data strandCheckR StartedAt: 2025-10-26 18:09:52 -0400 (Sun, 26 Oct 2025) EndedAt: 2025-10-26 18:10:16 -0400 (Sun, 26 Oct 2025) EllapsedTime: 24.3 seconds RetCode: 0 Status: OK PackageFile: strandCheckR_1.27.2.tar.gz PackageFileSize: 1.226 MiB