Package: strandCheckR Version: 1.27.2 Command: rm -rf strandCheckR.buildbin-libdir && mkdir strandCheckR.buildbin-libdir && /Users/biocbuild/BBS/utils/build-universal.sh strandCheckR_1.27.2.tar.gz /Library/Frameworks/R.framework/Resources/bin/R strandCheckR.buildbin-libdir StartedAt: 2025-10-26 22:49:38 -0400 (Sun, 26 Oct 2025) EndedAt: 2025-10-26 22:49:54 -0400 (Sun, 26 Oct 2025) EllapsedTime: 16.3 seconds RetCode: 0 Status: OK PackageFile: strandCheckR_1.27.2.tgz PackageFileSize: 1.309 MiB