Package: stepNorm Version: 1.82.0 Command: /Library/Frameworks/R.framework/Resources/bin/R CMD INSTALL stepNorm StartedAt: 2025-11-03 15:10:52 -0500 (Mon, 03 Nov 2025) EndedAt: 2025-11-03 15:11:23 -0500 (Mon, 03 Nov 2025) EllapsedTime: 31.3 seconds RetCode: 0 Status: OK