Package: stepNorm Version: 1.82.0 Command: /Library/Frameworks/R.framework/Resources/bin/R CMD build --keep-empty-dirs --no-resave-data stepNorm StartedAt: 2025-11-02 19:02:04 -0500 (Sun, 02 Nov 2025) EndedAt: 2025-11-02 19:02:06 -0500 (Sun, 02 Nov 2025) EllapsedTime: 2.3 seconds RetCode: 0 Status: OK PackageFile: stepNorm_1.82.0.tar.gz PackageFileSize: 460.2 KiB