Package: stepNorm Version: 1.82.0 Command: rm -rf stepNorm.buildbin-libdir && mkdir stepNorm.buildbin-libdir && /Users/biocbuild/BBS/utils/build-universal.sh stepNorm_1.82.0.tar.gz /Library/Frameworks/R.framework/Resources/bin/R stepNorm.buildbin-libdir StartedAt: 2025-11-03 02:07:44 -0500 (Mon, 03 Nov 2025) EndedAt: 2025-11-03 02:07:51 -0500 (Mon, 03 Nov 2025) EllapsedTime: 6.9 seconds RetCode: 0 Status: OK PackageFile: stepNorm_1.82.0.tgz PackageFileSize: 553.7 KiB